BEGIN:VCALENDAR
VERSION:2.0
PRODID:-//3nity.com//3nity CMS//EN
BEGIN:VEVENT
SUMMARY:Sunday Worship
UID:2026-07-18-1196408@www.wordalivemin.org
SEQUENCE:0
STATUS:CONFIRMED
DTSTART:20260614T110000
DTEND:20260614T130000
DTSTAMP:20161222T120000
LOCATION: Word Alive Ministries, 209 E Texas Ave, Baytown, TX 77520
DESCRIPTION:
URL:http://www.wordalivemin.org
END:VEVENT
END:VCALENDAR
